BEGIN:VCALENDAR
VERSION:2.0
PRODID:-//wp-events-plugin.com//7.0.4//EN
BEGIN:VEVENT
UID:1@peaceact.org
DTSTART:20241003T120000Z
DTEND:20241003T123000Z
DTSTAMP:20241002T112932Z
URL:https://peaceact.org/events/%e0%a4%b2%e0%a5%8b%e0%a4%95%e0%a4%be%e0%a4
 %b0%e0%a5%8d%e0%a4%aa%e0%a4%a3-%e0%a4%94%e0%a4%b0-%e0%a4%aa%e0%a4%b0%e0%a4
 %bf%e0%a4%9a%e0%a4%b0%e0%a5%8d%e0%a4%9a%e0%a4%be/
SUMMARY:लोकार्पण और परिचर्चा
DESCRIPTION:राजीव भार्गव की पुस्तक '
 राष्ट्र और नैतिकता : नए भारत 
 से उठते 100 सवाल' का लोकार्पण औ
 र परिचर्चा\n\n\n\n\n
ATTACH;FMTTYPE=image/jpeg:https://peaceact.org/wp-content/uploads/2024/10/
 461502335_932881975525518_3381512404385970561_n.jpg
END:VEVENT
END:VCALENDAR